BEGIN:VCALENDAR
VERSION:2.0
PRODID:-//wp-events-plugin.com//7.2.3.1//EN
TZID:America/New_York
X-WR-TIMEZONE:America/New_York
BEGIN:VEVENT
UID:193@bethelcommunity.ca
DTSTART;TZID=America/New_York:20260509T060000
DTEND;TZID=America/New_York:20260509T180000
DTSTAMP:20260423T231433Z
URL:https://bethelcommunity.ca/eventscalendar/camp-work-day
SUMMARY:Camp Work Day
DESCRIPTION:If you like to repair things and build\, May 9 is your day to j
 oin those who make the short trek to work at Frontier Lodge.\nIn the past\
 , we have built decks\, bridges and other useful structures for the camp. 
 We always have lots of fun. We carpool\, leaving at 6:00 am from Bethel an
 d have great fellowship for the whole day. Not to be missed.
ATTACH;FMTTYPE=image/jpeg:https://bethelcommunity.ca/wp-content/uploads/20
 26/04/BCC.26-Work-Day.png
LOCATION:Frontier Lodge Christian Camp\, 1406 QC-141\, Saint-Herménégilde
 \, Quebec\, J0B 2W0\, Canada
X-APPLE-STRUCTURED-LOCATION;VALUE=URI;X-ADDRESS=1406 QC-141\, Saint-Hermén
 égilde\, Quebec\, J0B 2W0\, Canada;X-APPLE-RADIUS=100;X-TITLE=Frontier Lo
 dge Christian Camp:geo:0,0
END:VEVENT
BEGIN:VTIMEZONE
TZID:America/New_York
X-LIC-LOCATION:America/New_York
BEGIN:DAYLIGHT
DTSTART:20260308T030000
TZOFFSETFROM:-0500
TZOFFSETTO:-0400
TZNAME:EDT
END:DAYLIGHT
END:VTIMEZONE
END:VCALENDAR