BEGIN:VCALENDAR
VERSION:2.0
PRODID:-//wp-events-plugin.com//7.2.3.1//EN
TZID:America/New_York
X-WR-TIMEZONE:America/New_York
BEGIN:VEVENT
UID:192@bethelcommunity.ca
DTSTART;TZID=America/New_York:20260425T083000
DTEND;TZID=America/New_York:20260425T123000
DTSTAMP:20260423T221459Z
URL:https://bethelcommunity.ca/eventscalendar/church-clean-up
SUMMARY:Church clean up
DESCRIPTION:Come help with the spring cleaning that is so needed at Bethel.
 \n\nWe will clean inside and the yard.\n\nWe will repair things that need 
 repairing.\n\nWe will share pizza together at lunch time!
ATTACH;FMTTYPE=image/jpeg:https://bethelcommunity.ca/wp-content/uploads/20
 26/04/BCC.26-Cleanup-April-25.png
LOCATION:Bethel Community Church\, 105 av Dieppe \, Pointe-Claire\, Quebec\
 , H9R 1X5\, Canada
X-APPLE-STRUCTURED-LOCATION;VALUE=URI;X-ADDRESS=105 av Dieppe \, Pointe-Cla
 ire\, Quebec\, H9R 1X5\, Canada;X-APPLE-RADIUS=100;X-TITLE=Bethel Communit
 y Church:geo:0,0
END:VEVENT
BEGIN:VTIMEZONE
TZID:America/New_York
X-LIC-LOCATION:America/New_York
BEGIN:DAYLIGHT
DTSTART:20260308T030000
TZOFFSETFROM:-0500
TZOFFSETTO:-0400
TZNAME:EDT
END:DAYLIGHT
END:VTIMEZONE
END:VCALENDAR